BEGIN:VCALENDAR
VERSION:2.0
PRODID:-//eventon.com NONSGML v1.0//EN
BEGIN:VEVENT
UID:69ed3b336830d
DTSTAMP:20260425T180747
DTSTART:20221002T130000Z
DTEND:20221002T190000Z
LOCATION:
SUMMARY:Bloomsburg University Baseball
DESCRIPTION: Bloomsburg University Baseball
END:VEVENT
END:VCALENDAR