BEGIN:VCALENDAR
VERSION:2.0
PRODID:-//eventon.com NONSGML v1.0//EN
BEGIN:VEVENT
UID:69ed218e69391
DTSTAMP:20260425T161822
DTSTART:20210619T130000Z
DTEND:20210619T160000Z
LOCATION:
SUMMARY:USKG Jr. Golf League
DESCRIPTION: Times TBD
END:VEVENT
END:VCALENDAR