BEGIN:VCALENDAR
VERSION:2.0
PRODID:-//eventon.com NONSGML v1.0//EN
BEGIN:VEVENT
UID:69e874bfcd972
DTSTAMP:20260422T031159
DTSTART:20210512T200000Z
DTEND:20210512T213000Z
LOCATION:
SUMMARY:USKG Player Pathway Class
DESCRIPTION: USKG Player Pathway Class
END:VEVENT
END:VCALENDAR