BEGIN:VCALENDAR
VERSION:2.0
PRODID:-//eventon.com NONSGML v1.0//EN
BEGIN:VEVENT
UID:69ed7d029358e
DTSTAMP:20260425T224834
DTSTART:20211010T140000Z
DTEND:20211011T035000Z
LOCATION:
SUMMARY:FVR Fall Classic Tournament
DESCRIPTION: FVR Fall Classic Tournament
END:VEVENT
END:VCALENDAR