BEGIN:VCALENDAR
VERSION:2.0
PRODID:-//eventon.com NONSGML v1.0//EN
BEGIN:VEVENT
UID:69ed8c2a16c7f
DTSTAMP:20260425T235314
DTSTART:20211009T140000Z
DTEND:20211010T035000Z
LOCATION:
SUMMARY:FVR Fall Classic Tournament
DESCRIPTION: FVR Fall Classic Tournament
END:VEVENT
END:VCALENDAR