BEGIN:VCALENDAR
VERSION:2.0
PRODID:-//eventon.com NONSGML v1.0//EN
BEGIN:VEVENT
UID:69e73114e2628
DTSTAMP:20260421T041100
DTSTART:20210511T213000Z
DTEND:20210512T035000Z
LOCATION:
SUMMARY:FVR Tuesday Night League
DESCRIPTION: FVR Tuesday Night League
END:VEVENT
END:VCALENDAR